BEGIN:VCALENDAR
VERSION:2.0
PRODID:-//Galeria de la Raza - ECPv6.15.18//NONSGML v1.0//EN
CALSCALE:GREGORIAN
METHOD:PUBLISH
X-ORIGINAL-URL:https://galeriadelaraza.org
X-WR-CALDESC:Events for Galeria de la Raza
REFRESH-INTERVAL;VALUE=DURATION:PT1H
X-Robots-Tag:noindex
X-PUBLISHED-TTL:PT1H
BEGIN:VTIMEZONE
TZID:America/Los_Angeles
BEGIN:DAYLIGHT
TZOFFSETFROM:-0800
TZOFFSETTO:-0700
TZNAME:PDT
DTSTART:20230312T100000
END:DAYLIGHT
BEGIN:STANDARD
TZOFFSETFROM:-0700
TZOFFSETTO:-0800
TZNAME:PST
DTSTART:20231105T090000
END:STANDARD
BEGIN:DAYLIGHT
TZOFFSETFROM:-0800
TZOFFSETTO:-0700
TZNAME:PDT
DTSTART:20240310T100000
END:DAYLIGHT
BEGIN:STANDARD
TZOFFSETFROM:-0700
TZOFFSETTO:-0800
TZNAME:PST
DTSTART:20241103T090000
END:STANDARD
BEGIN:DAYLIGHT
TZOFFSETFROM:-0800
TZOFFSETTO:-0700
TZNAME:PDT
DTSTART:20250309T100000
END:DAYLIGHT
BEGIN:STANDARD
TZOFFSETFROM:-0700
TZOFFSETTO:-0800
TZNAME:PST
DTSTART:20251102T090000
END:STANDARD
END:VTIMEZONE
BEGIN:VEVENT
DTSTART;TZID=America/Los_Angeles:20240928T000000
DTEND;TZID=America/Los_Angeles:20241122T235959
DTSTAMP:20260421T183757
CREATED:20241015T215326Z
LAST-MODIFIED:20241028T193952Z
UID:992-1727481600-1732319999@galeriadelaraza.org
SUMMARY:Exist & Resist & Indigenize & Decolonize & Free Palestine
DESCRIPTION:Galería de la Raza is proud to present Exist & Resist & Decolonize & Indigenize & Free Palestine\, a collection of prints created during community art builds in solidarity with Palestine. These art builds\, organized by Dignidad Rebelde\, galvanized San Francisco Bay Area cultural workers and artists to create a collective body of work for actions and protests. Exist & Resist & Decolonize & Indigenize & Free Palestine\, showcases this body of work to honor the work of these artists and offer a moment of creative resurgence to continue the fight of liberation for Palestine. \n\n\n\nExist & Resist & Indigenize & Decolonize & Free Palestine will be on view from September 28- November 22\, 2024. You can visit Galería de la Raza Studio 24 during public hours Wednesday – Friday 12-5pm.   \n\n\n\nFeatured Artists:\n\n\n\nAlejandra RubioAlizarin Menninga-FongAlyssa AvilesAmalia Mesa BainsArab Resource and Organizing CenterCece CarpioC. GazalehChucha Marquez Dawline-Jane Oni-EselehElizabeth Blancas Emory DouglasEric NorbergFeiGilda PosadaJackie RomeroJamaa Al-Yad | جمع اليدJesus BarrazaJose “Peps” GarciaJuan R. FuentesLisa JuachonMelanie CervantesNisha SethiPalestinian Youth MovementRen Allahkani Rommy Torrico Sarah FathallahSarai Montes TANZAValeria Olguin
URL:https://galeriadelaraza.org/calendar/exist-resist-indigenize-decolonize-free-palestine/
LOCATION:Studio 24\, 2779 Folsom St Ste. A\, San Francisco\, CA\, 94110\, United States
CATEGORIES:Studio 24,Visual Art Exhibitions
ATTACH;FMTTYPE=image/png:https://galeriadelaraza.org/wp-content/uploads/2024/10/Exist-SimpleBanner.png
END:VEVENT
BEGIN:VEVENT
DTSTART;TZID=America/Los_Angeles:20241116T200000
DTEND;TZID=America/Los_Angeles:20241116T220000
DTSTAMP:20260421T183757
CREATED:20241023T222220Z
LAST-MODIFIED:20241122T002007Z
UID:1137-1731787200-1731794400@galeriadelaraza.org
SUMMARY:"Cuerpos en Transito" Performance
DESCRIPTION:Galería de la Raza is proud to present a preview of Migratory Identities Series: Bodies in Transit by actress and performance artist Violeta Luna. \n\n\n\nMigratory Identities Series: Bodies in Transit/Cuerpos en Transito is a work-in-progress collage of actions\, focused on the complex subject of immigration from the southern border of the U.S.\, its extreme politicization\, and gender and institutional violence. \n\n\n\nThese issues are illuminated with testimonies of women who have had to leave their places of origin in Latin America to migrate to the North to reinvent themselves and make this country their new home. \n\n\n\nWomen are the fastest growing demographic of displaced peoples. However\, they remain largely invisible\, or attacked by an extremely dehumanizing misogynistic and anti-immigrant rhetoric\, unprecedented in our contemporary times\, evoking the worst of the Hitlerian discourse of the 20th century. \n\n\n\nBodies in Transit proposes actions to articulate a response to this toxic rhetoric broadcasted by central power with a poetics of resistance from the peripheries\, seeking to affirm collective solidarity\, and our deep and shared humanity. \n\n\n\nCome experience this timely performance and get a sneak peek of this body of work. \n\n\n\nPlease note: the performance begins at Balmy Alley off of 24th Street and is followed by a short procession up to Galería’s Studio 24.  \n\n\n\nEntrance Fee: To support the ongoing work of this project\, suggested donations can be made to the Mujeres Unidas y Activas \n\n\n\nCreative Team \n\n\n\nConcept/performer: Violeta Luna \n\n\n\nDramaturgy: Roberto Varea \n\n\n\nMusic and Sound design: David R. Molina  \n\n\n\nVideo: Vania Muñoz \n\n\n\nVisual art: Juana Inés Luna \n\n\n\nPercussionist: Edwin Ayala \n\n\n\nAcknowledgements: \n\n\n\nWe would like to thank all the women from the Mujeres Unidas y Activas (MUA) organization\, and Casa Refugiados (CDMX)\, who with their testimonies have contributed to and inspired the creation of these actions. \n\n\n\nMujeres Unidas y Activas (MUA) is a grassroots organization of Latina immigrant women with the dual mission of promoting personal transformation and building community power for social and economic justice. Since 1989\, MUA has created a safe haven for Latina immigrant women experiencing domestic violence\, poverty\, and exploitation. With offices in San Francisco and Oakland and a satellite program in Union City\, MUA provides a safe space where women can address basic needs and dismantle barriers of low self-esteem\, domestic violence\, and economic hardship that prevent them from recognizing their own potential to improve their living conditions and circumstances. \n\n\n\nCasa Refugiados A.C. is a secular\, non-partisan\, non-profit civil society organization based in Mexico City\, whose mission is to promote the rights of People on the Move (PEM in its Spanish acronym) displaced by violence (refugees\, asylum seekers\, displaced persons and migrants) with an emphasis on supporting better local integration through humanitarian programs and the animation of respectful and supportive environments\, within the framework of the dissemination of a culture of peace based on respect for Human Rights.
URL:https://galeriadelaraza.org/calendar/violeta-lunas-cuerpos-en-transito-performance/
LOCATION:Balmy Alley\, Balmy St\, San Francisco\, California\, 94110\, United States
CATEGORIES:Performance Art,Studio 24
ATTACH;FMTTYPE=image/jpeg:https://galeriadelaraza.org/wp-content/uploads/2024/10/Image-1-2-scaled.jpg
END:VEVENT
END:VCALENDAR