BEGIN:VCALENDAR
VERSION:2.0
PRODID:-//Galeria de la Raza - ECPv6.15.18//NONSGML v1.0//EN
CALSCALE:GREGORIAN
METHOD:PUBLISH
X-WR-CALNAME:Galeria de la Raza
X-ORIGINAL-URL:https://galeriadelaraza.org
X-WR-CALDESC:Events for Galeria de la Raza
REFRESH-INTERVAL;VALUE=DURATION:PT1H
X-Robots-Tag:noindex
X-PUBLISHED-TTL:PT1H
BEGIN:VTIMEZONE
TZID:America/Los_Angeles
BEGIN:DAYLIGHT
TZOFFSETFROM:-0800
TZOFFSETTO:-0700
TZNAME:PDT
DTSTART:20230312T100000
END:DAYLIGHT
BEGIN:STANDARD
TZOFFSETFROM:-0700
TZOFFSETTO:-0800
TZNAME:PST
DTSTART:20231105T090000
END:STANDARD
BEGIN:DAYLIGHT
TZOFFSETFROM:-0800
TZOFFSETTO:-0700
TZNAME:PDT
DTSTART:20240310T100000
END:DAYLIGHT
BEGIN:STANDARD
TZOFFSETFROM:-0700
TZOFFSETTO:-0800
TZNAME:PST
DTSTART:20241103T090000
END:STANDARD
BEGIN:DAYLIGHT
TZOFFSETFROM:-0800
TZOFFSETTO:-0700
TZNAME:PDT
DTSTART:20250309T100000
END:DAYLIGHT
BEGIN:STANDARD
TZOFFSETFROM:-0700
TZOFFSETTO:-0800
TZNAME:PST
DTSTART:20251102T090000
END:STANDARD
END:VTIMEZONE
BEGIN:VEVENT
DTSTART;TZID=America/Los_Angeles:20241115T190000
DTEND;TZID=America/Los_Angeles:20241115T210000
DTSTAMP:20260421T090819
CREATED:20241015T215110Z
LAST-MODIFIED:20241122T002033Z
UID:988-1731697200-1731704400@galeriadelaraza.org
SUMMARY:Lunada Literary Lounge
DESCRIPTION:Save the date to gather with us under the November full moon for Lunada Literary Lounge 🌕 \n\n\n\nWe invite you to join Galería de la Raza\, Friday\, November 15 at Studio 24!  \n\n\n\nFeatured poet and artist include Matt Sedillo and DJ Nick Derenzi. Come for the feature\, and stay for the open mic lineup! Open Mic is available on a first come first serve basis\, sign ups will be at the door. Don’t be shy and share your work. Doors open at 7pm!  
URL:https://galeriadelaraza.org/calendar/lunada-literary-lounge-3/
LOCATION:Studio 24\, 2779 Folsom St Ste. A\, San Francisco\, CA\, 94110\, United States
CATEGORIES:Performance Art,Studio 24
ATTACH;FMTTYPE=image/jpeg:https://galeriadelaraza.org/wp-content/uploads/2024/10/Lunada2024_SimpleBanner.jpg
END:VEVENT
END:VCALENDAR