BEGIN:VCALENDAR
VERSION:2.0
PRODID:-//Galeria de la Raza - ECPv6.15.18//NONSGML v1.0//EN
CALSCALE:GREGORIAN
METHOD:PUBLISH
X-WR-CALNAME:Galeria de la Raza
X-ORIGINAL-URL:https://galeriadelaraza.org
X-WR-CALDESC:Events for Galeria de la Raza
REFRESH-INTERVAL;VALUE=DURATION:PT1H
X-Robots-Tag:noindex
X-PUBLISHED-TTL:PT1H
BEGIN:VTIMEZONE
TZID:America/Los_Angeles
BEGIN:DAYLIGHT
TZOFFSETFROM:-0800
TZOFFSETTO:-0700
TZNAME:PDT
DTSTART:20240310T100000
END:DAYLIGHT
BEGIN:STANDARD
TZOFFSETFROM:-0700
TZOFFSETTO:-0800
TZNAME:PST
DTSTART:20241103T090000
END:STANDARD
BEGIN:DAYLIGHT
TZOFFSETFROM:-0800
TZOFFSETTO:-0700
TZNAME:PDT
DTSTART:20250309T100000
END:DAYLIGHT
BEGIN:STANDARD
TZOFFSETFROM:-0700
TZOFFSETTO:-0800
TZNAME:PST
DTSTART:20251102T090000
END:STANDARD
BEGIN:DAYLIGHT
TZOFFSETFROM:-0800
TZOFFSETTO:-0700
TZNAME:PDT
DTSTART:20260308T100000
END:DAYLIGHT
BEGIN:STANDARD
TZOFFSETFROM:-0700
TZOFFSETTO:-0800
TZNAME:PST
DTSTART:20261101T090000
END:STANDARD
END:VTIMEZONE
BEGIN:VEVENT
DTSTART;TZID=America/Los_Angeles:20250314T190000
DTEND;TZID=America/Los_Angeles:20250314T213000
DTSTAMP:20260421T013003
CREATED:20250212T213217Z
LAST-MODIFIED:20250311T210536Z
UID:1602-1741978800-1741987800@galeriadelaraza.org
SUMMARY:Lunada Literary Lounge
DESCRIPTION:Save the date to gather with us under the March full moon for Lunada Literary Lounge 🌕 \n\n\n\nJoin Galería on Friday\, March 14 at Studio 24 for the Spring 2025 season opener of Lunada Literary Lounge! This month’s features are Adela Noriega and Xochiquetzal Candelaria! Our open mic is available on a first come first serve basis\, sign ups will be at the door. Don’t be shy and share your work! \n\n\n\nABOUT THE ARTISTS \n\n\n\nAdela NajarroAdela Najarro is a poet with a social consciousness who serves on the board of directors for Círculo de poetas and Writers and works with the Latinx community nationwide\, promoting the intersection of creative writing and social justice. The Letras Latinas/ Red Hen Collaborative has selected Variations in Blue for publication in 2025. She is the author of four additional poetry collections: Split Geography\, Twice Told Over\, My Childrens\, and Volcanic Interruptions\, a chapbook that includes Janet Trenchard’s artwork.Her extended family left Nicaragua and arrived in San Francisco during the 1940s; after the fall of the Somoza regime\, the last of the family settled in the Los Angeles area. The California Arts Council has recognized her as an established artist for the Central California Region and appointed her as an Individual Artist Fellow. \n\n\n\nXochiquetzal CandelariaXochiquetzal Candelaria is the author of two books of poetry\, Empire (University of Arizona Press) and Show Me the Bells (Tia Chucha Press). Her work has appeared in The Nation\, Colorado Review\, Tin House\, Huizache\, Seneca Review\, and other magazines. She holds degrees from UC Berkeley and New York University and is the recipient of awards including an NEA Fellowship in Poetry and grants from Barbara Deming Memorial Fund\, and the LEF Foundation. Her writing has been anthologized\, most recently in Other Musics: New Latina Poetry\, and The Poetry of Capital. She teaches at City College of San Francisco and lives with her partner and two chavalitos.
URL:https://galeriadelaraza.org/calendar/lunada-literary-lounge-5/
LOCATION:Galería de la Raza Studio 24\, 2779 Folsom St. Suite A\, San Francisco\, California\, 94110\, United States
CATEGORIES:Performance Art,Studio 24
ATTACH;FMTTYPE=image/jpeg:https://galeriadelaraza.org/wp-content/uploads/2024/10/Lunada2024_SimpleBanner.jpg
END:VEVENT
END:VCALENDAR